BEGIN:VCALENDAR
VERSION:2.0
PRODID:-//KgKJH Sachsen-Anhalt e.V. - ECPv6.15.18//NONSGML v1.0//EN
CALSCALE:GREGORIAN
METHOD:PUBLISH
X-WR-CALNAME:KgKJH Sachsen-Anhalt e.V.
X-ORIGINAL-URL:https://kgkjh.de
X-WR-CALDESC:Veranstaltungen für KgKJH Sachsen-Anhalt e.V.
REFRESH-INTERVAL;VALUE=DURATION:PT1H
X-Robots-Tag:noindex
X-PUBLISHED-TTL:PT1H
BEGIN:VTIMEZONE
TZID:Europe/Berlin
BEGIN:DAYLIGHT
TZOFFSETFROM:+0100
TZOFFSETTO:+0200
TZNAME:CEST
DTSTART:20250330T010000
END:DAYLIGHT
BEGIN:STANDARD
TZOFFSETFROM:+0200
TZOFFSETTO:+0100
TZNAME:CET
DTSTART:20251026T010000
END:STANDARD
BEGIN:DAYLIGHT
TZOFFSETFROM:+0100
TZOFFSETTO:+0200
TZNAME:CEST
DTSTART:20260329T010000
END:DAYLIGHT
BEGIN:STANDARD
TZOFFSETFROM:+0200
TZOFFSETTO:+0100
TZNAME:CET
DTSTART:20261025T010000
END:STANDARD
BEGIN:DAYLIGHT
TZOFFSETFROM:+0100
TZOFFSETTO:+0200
TZNAME:CEST
DTSTART:20270328T010000
END:DAYLIGHT
BEGIN:STANDARD
TZOFFSETFROM:+0200
TZOFFSETTO:+0100
TZNAME:CET
DTSTART:20271031T010000
END:STANDARD
END:VTIMEZONE
BEGIN:VEVENT
DTSTART;TZID=Europe/Berlin:20260212T100000
DTEND;TZID=Europe/Berlin:20260212T130000
DTSTAMP:20260420T110220
CREATED:20260301T092715Z
LAST-MODIFIED:20260301T092722Z
UID:16114-1770890400-1770901200@kgkjh.de
SUMMARY:Jungen*arbeitskreis Halle\, Saalekreis & MSH
DESCRIPTION:Thema: Stark\, unverwundbar\, gesund? \n\n\n\nWarum Jungen* sich selbst hinterfragen müssen \n\n\n\nGesundheit gilt für viele Jungen* noch immer als Nebensache. Stärke\, Durchhalten und Risiko werden früh belohnt. Doch was kostet dieses Bild\, wenn Körper\, Psyche und Selbstwahrnehmung dauerhaft unter Druck geraten? \n\n\n\nJungen* und junge Männer* stehen vor besonderen Herausforderungen. Riskantes Verhalten\, ungesunde Ernährung\, Leistungsdruck und ein verzerrtes Körperbild beeinflussen ihre Gesundheit. Kritische Auseinandersetzung hilft\, Grenzen zu erkennen\, Verantwortung zu übernehmen und langfristig gesund zu bleiben. \n\n\n\nWie kann eine offene\, ehrliche Gesundheitsbildung gelingen\, die Jungen* ernst nimmt? Gesucht sind kritische Fragen\, Anmerkungen und Ideen\, um neue Perspektiven zu eröffnen und Gesundheit gemeinsam neu zu denken. \n\n\n\n\nDatum: 12. Februar 2026\n\n\n\nUhrzeit: 10:00 bis 13:00 Uhr\n\n\n\nOrt: Sankt Georgen\n\n\n\nGlauchaer Str. 74\, 06110 Halle (Saale)\n\n\n\n\nDer Flyer zur Veranstaltung kann hier abgerufen werden. Melde dich am besten gleich an! Der Anmeldeschluss ist der 07. Feb. 2026. \n\n\n\n\n\nAnmeldung+\n\n\n\n\nvia E-Mail an scholz@kgkjh.de
URL:https://kgkjh.de/event/jungenarbeitskreis-halle-saalekreis-msh/
LOCATION:Sankt Georgen\, Halle
ATTACH;FMTTYPE=image/png:https://kgkjh.de/wp-content/uploads/2026/01/1-3.png
END:VEVENT
BEGIN:VEVENT
DTSTART;TZID=Europe/Berlin:20260214T140000
DTEND;TZID=Europe/Berlin:20260214T170000
DTSTAMP:20260420T110220
CREATED:20260301T094333Z
LAST-MODIFIED:20260302T085221Z
UID:16134-1771077600-1771088400@kgkjh.de
SUMMARY:One Billion Rising
DESCRIPTION:(Eine Milliarde erhebt sich) \n\n\n\nOne Billion – steht für eine Milliarde Frauen* und Mädchen* die weltweit von Gewalt betroffen sind. \n\n\n\nOne Billion Rising ist ein jährlich wiederkehrender Tanzprotest bei dem sich am 14.2. auf der ganzen Welt Menschen erheben und tanzen\, um Solidarität zu zeigen und ein Zeichen für ein Ende von Gewalt an Frauen* und Mädchen* zu setzen. \n\n\n\nAuch in Magdeburg wird wieder getanzt. Das Aktionsbündnis OBR Magdeburg lädt dazu herzlich ein. \n\n\n\n14.02.2026 um 14:00 Uhr im City Carré Magdeburg. \n\n\n\n\nBleibt auf dem Laufenden und folgt uns gern bei Instagram!
URL:https://kgkjh.de/event/one-billion-rising/
CATEGORIES:Events
ATTACH;FMTTYPE=image/png:https://kgkjh.de/wp-content/uploads/2026/01/4.png
END:VEVENT
BEGIN:VEVENT
DTSTART;TZID=Europe/Berlin:20260226T170000
DTEND;TZID=Europe/Berlin:20260226T210000
DTSTAMP:20260420T110220
CREATED:20260301T094213Z
LAST-MODIFIED:20260301T094453Z
UID:16130-1772125200-1772139600@kgkjh.de
SUMMARY:Vernissage und Plakatwerkstatt
DESCRIPTION:Unsere Ausstellung „Girlhood“ wird eröffnet. Sie wird vom 26.02.2026 bis mindestens 24.04.2026 im Literaturhaus Magdeburg zu sehen sein.  \n\n\n\nVernissage 26.02.2026 ab 17:00 UhrLiteraturhaus MagdeburgThiemstraße 7\, 39104 MagdeburgDie Vernissage bietet Raum für Diskussionen\, Austausch von eigenen Erfahrungen und Gespräche mit anderen Interessierten. \n\n\n\nPassend zur Ausstellung\, die sich mit Lebensrealitäten von MINTA*- und FLINTA*-Personen auseinandersetzt findet im Anschluss an die Eröffnung eine Plakatwerkstatt anlässlich des 09.03.2026 statt.Der 09.03.2026 soll genutzt werden\, um zu zeigen wie viel unsichtbare Arbeit MINTA* und FLINTA*-Personen tragen. In Magdeburg wird der Tag unter dem Motto „ohne uns“ begangen. \n\n\n\nIn der Plakatwerkstatt können Botschaften\, Gedanken und Protestnachrichten erstellt werden. Für inhaltliche und kreative Unterstützung ist gesorgt. \n\n\n\nAlle Interessierten sind herzlich willkommen\, insbesondere Fachkräfte der Kinder- und Jugendhilfe\, für Inspiration für die praktische Arbeit.
URL:https://kgkjh.de/event/vernissage-und-plakatwerkstatt/
LOCATION:Literaturhaus Magdeburg\, Thiemstraße 7\, Magdeburg\, 39104\, Germany
CATEGORIES:Events
ATTACH;FMTTYPE=image/png:https://kgkjh.de/wp-content/uploads/2026/02/2026_02_26_Flyer_Plakatwerkstatt_1.png
END:VEVENT
END:VCALENDAR