BEGIN:VCALENDAR
VERSION:2.0
PRODID:-//KgKJH Sachsen-Anhalt e.V. - ECPv6.15.18//NONSGML v1.0//EN
CALSCALE:GREGORIAN
METHOD:PUBLISH
X-WR-CALNAME:KgKJH Sachsen-Anhalt e.V.
X-ORIGINAL-URL:https://kgkjh.de
X-WR-CALDESC:Veranstaltungen für KgKJH Sachsen-Anhalt e.V.
REFRESH-INTERVAL;VALUE=DURATION:PT1H
X-Robots-Tag:noindex
X-PUBLISHED-TTL:PT1H
BEGIN:VTIMEZONE
TZID:Europe/Berlin
BEGIN:DAYLIGHT
TZOFFSETFROM:+0100
TZOFFSETTO:+0200
TZNAME:CEST
DTSTART:20250330T010000
END:DAYLIGHT
BEGIN:STANDARD
TZOFFSETFROM:+0200
TZOFFSETTO:+0100
TZNAME:CET
DTSTART:20251026T010000
END:STANDARD
BEGIN:DAYLIGHT
TZOFFSETFROM:+0100
TZOFFSETTO:+0200
TZNAME:CEST
DTSTART:20260329T010000
END:DAYLIGHT
BEGIN:STANDARD
TZOFFSETFROM:+0200
TZOFFSETTO:+0100
TZNAME:CET
DTSTART:20261025T010000
END:STANDARD
BEGIN:DAYLIGHT
TZOFFSETFROM:+0100
TZOFFSETTO:+0200
TZNAME:CEST
DTSTART:20270328T010000
END:DAYLIGHT
BEGIN:STANDARD
TZOFFSETFROM:+0200
TZOFFSETTO:+0100
TZNAME:CET
DTSTART:20271031T010000
END:STANDARD
END:VTIMEZONE
BEGIN:VEVENT
DTSTART;TZID=Europe/Berlin:20260424T190000
DTEND;TZID=Europe/Berlin:20260424T210000
DTSTAMP:20260424T124106
CREATED:20260408T113348Z
LAST-MODIFIED:20260421T104954Z
UID:16510-1777057200-1777064400@kgkjh.de
SUMMARY:Lesung & Gespräch: "Witches\, Bitches\, It-Girls"
DESCRIPTION:ORTSÄNDERUNG – Aufgrund der hohen Nachfrage ziehen wir ins Hot Alte Bude! \n\n\n\nWas steckt hinter den Bildern von „Witches“\, „Bitches“ und „It-Girls“ – und warum prägen sie unser Denken bis heute? In ihrem neuen Buch begibt sich Rebekka Endler auf eine kluge\, pointierte Spurensuche durch die Geschichte patriarchaler Erzählungen und entlarvt misogyn geprägte Mythen\, die unseren Alltag bis heute beeinflussen. \n\n\n\nRebekka Endler ist Journalistin\, Podcasterin und Bestsellerautorin und beschäftigt sich in ihrer Arbeit mit den Strukturen von Ungleichheit und Diskriminierung. \n\n\n\n\n\n\n\n\n\n\n\n\n\nKooperationveranstaltung mit: Literaturhaus Magdeburg e.V. (dort sind auch die Karten erhältlich)
URL:https://kgkjh.de/event/lesung-witches-bitches-it-girls/
LOCATION:Hot Alte Bude\, Karl-Schmidt-Straße 12\, Magdeburg\, 39104\, Germany
CATEGORIES:Events
ATTACH;FMTTYPE=image/png:https://kgkjh.de/wp-content/uploads/2026/04/2.png
END:VEVENT
END:VCALENDAR