BEGIN:VCALENDAR
VERSION:2.0
PRODID:-//KgKJH Sachsen-Anhalt e.V. - ECPv6.15.18//NONSGML v1.0//EN
CALSCALE:GREGORIAN
METHOD:PUBLISH
X-WR-CALNAME:KgKJH Sachsen-Anhalt e.V.
X-ORIGINAL-URL:https://kgkjh.de
X-WR-CALDESC:Veranstaltungen für KgKJH Sachsen-Anhalt e.V.
REFRESH-INTERVAL;VALUE=DURATION:PT1H
X-Robots-Tag:noindex
X-PUBLISHED-TTL:PT1H
BEGIN:VTIMEZONE
TZID:Europe/Berlin
BEGIN:DAYLIGHT
TZOFFSETFROM:+0100
TZOFFSETTO:+0200
TZNAME:CEST
DTSTART:20250330T010000
END:DAYLIGHT
BEGIN:STANDARD
TZOFFSETFROM:+0200
TZOFFSETTO:+0100
TZNAME:CET
DTSTART:20251026T010000
END:STANDARD
BEGIN:DAYLIGHT
TZOFFSETFROM:+0100
TZOFFSETTO:+0200
TZNAME:CEST
DTSTART:20260329T010000
END:DAYLIGHT
BEGIN:STANDARD
TZOFFSETFROM:+0200
TZOFFSETTO:+0100
TZNAME:CET
DTSTART:20261025T010000
END:STANDARD
BEGIN:DAYLIGHT
TZOFFSETFROM:+0100
TZOFFSETTO:+0200
TZNAME:CEST
DTSTART:20270328T010000
END:DAYLIGHT
BEGIN:STANDARD
TZOFFSETFROM:+0200
TZOFFSETTO:+0100
TZNAME:CET
DTSTART:20271031T010000
END:STANDARD
END:VTIMEZONE
BEGIN:VEVENT
DTSTART;TZID=Europe/Berlin:20260313T100000
DTEND;TZID=Europe/Berlin:20260313T113000
DTSTAMP:20260420T110100
CREATED:20260301T092150Z
LAST-MODIFIED:20260301T093752Z
UID:16112-1773396000-1773401400@kgkjh.de
SUMMARY:Digitales Dialogforum (DiDi) - Wir präsentieren unsere Ausstellung Girlhood
DESCRIPTION:Wir zeigen euch Einblicke in unsere neueste Ausstellung. Diese ist nicht nur zum anschauen\, sondern kann ebenso als Methode genutzt werden. \n\n\n\nWie das geht erfahrt ihr in unserem Digitalen Dialogforum. \n\n\n\nGirlhood zeigt\, was junge FLINTA* (Frauen\, Lesben\, inter\, nicht-binäre\, trans und agender Personen) erleben\, fühlen und aushalten – und was sie stark macht. In kurzen Comics werden Erfahrungen erzählt\, die lustig sein können\, wütend machen\, Mut schenken oder schmerzhaft ehrlich sind. Jede einzelne Story steht für sich und macht sichtbar\, wie unterschiedlich und gleichzeitig verbunden diese Lebensrealitäten sind. \n\n\n\nMehr Informationen zum Format DiDi und die Anmeldung sind hier zu finden. \n\n\n\nDatum: 13.03.2026Uhrzeit: 10:00 bis 11:30 UhrOrt: online über Zoom
URL:https://kgkjh.de/event/digitales-dialogforum-didi-girlhood/
LOCATION:Onlineveranstaltung\, via Zoom
CATEGORIES:Fortbildung,Reihe
ATTACH;FMTTYPE=image/png:https://kgkjh.de/wp-content/uploads/2026/01/1-1.png
END:VEVENT
END:VCALENDAR